Package: FCBF Version: 2.8.0 Command: chmod a+r FCBF -R && F:\biocbuild\bbs-3.17-bioc\R\bin\R.exe CMD build --keep-empty-dirs --no-resave-data FCBF StartedAt: 2023-10-15 19:11:30 -0400 (Sun, 15 Oct 2023) EndedAt: 2023-10-15 19:13:26 -0400 (Sun, 15 Oct 2023) EllapsedTime: 116.3 seconds RetCode: 0 Status: OK PackageFile: FCBF_2.8.0.tar.gz PackageFileSize: 2.901 MiB