Package: FCBF Version: 2.8.0 Command: rm -rf FCBF.buildbin-libdir && mkdir FCBF.buildbin-libdir && F:\biocbuild\bbs-3.17-bioc\R\bin\R.exe CMD INSTALL --build --library=FCBF.buildbin-libdir FCBF_2.8.0.tar.gz StartedAt: 2023-10-16 08:47:29 -0400 (Mon, 16 Oct 2023) EndedAt: 2023-10-16 08:47:57 -0400 (Mon, 16 Oct 2023) EllapsedTime: 27.7 seconds RetCode: 0 Status: OK PackageFile: FCBF_2.8.0.zip PackageFileSize: 2.945 MiB