Package: FCBF Version: 2.8.0 Command: /home/biocbuild/bbs-3.17-bioc/R/bin/R CMD check --install=check:FCBF.install-out.txt --library=/home/biocbuild/bbs-3.17-bioc/R/site-library --timings FCBF_2.8.0.tar.gz StartedAt: 2023-10-15 21:17:16 -0400 (Sun, 15 Oct 2023) EndedAt: 2023-10-15 21:22:18 -0400 (Sun, 15 Oct 2023) EllapsedTime: 301.5 seconds RetCode: 1 Status: ERROR CheckDir: FCBF.Rcheck Warnings: NA