Package: FCBF Version: 2.8.0 Command: /home/biocbuild/bbs-3.17-bioc/R/bin/R CMD build --keep-empty-dirs --no-resave-data FCBF StartedAt: 2023-10-15 16:46:53 -0400 (Sun, 15 Oct 2023) EndedAt: 2023-10-15 16:48:12 -0400 (Sun, 15 Oct 2023) EllapsedTime: 78.9 seconds RetCode: 0 Status: OK PackageFile: FCBF_2.8.0.tar.gz PackageFileSize: 2.912 MiB