Package: FCBF Version: 2.8.0 Command: rm -rf FCBF.buildbin-libdir && mkdir FCBF.buildbin-libdir && /Users/biocbuild/BBS/utils/build-universal.sh FCBF_2.8.0.tar.gz /Library/Frameworks/R.framework/Resources/bin/R FCBF.buildbin-libdir StartedAt: 2023-10-16 09:23:40 -0400 (Mon, 16 Oct 2023) EndedAt: 2023-10-16 09:24:57 -0400 (Mon, 16 Oct 2023) EllapsedTime: 77.5 seconds RetCode: 0 Status: OK PackageFile: FCBF_2.8.0.tgz PackageFileSize: 2.954 MiB