Package: ExpressionAtlas Version: 1.28.0 Command: rm -rf ExpressionAtlas.buildbin-libdir && mkdir ExpressionAtlas.buildbin-libdir && F:\biocbuild\bbs-3.17-bioc\R\bin\R.exe CMD INSTALL --build --library=ExpressionAtlas.buildbin-libdir ExpressionAtlas_1.28.0.tar.gz StartedAt: 2023-10-16 08:47:04 -0400 (Mon, 16 Oct 2023) EndedAt: 2023-10-16 08:47:27 -0400 (Mon, 16 Oct 2023) EllapsedTime: 23.3 seconds RetCode: 0 Status: OK PackageFile: ExpressionAtlas_1.28.0.zip PackageFileSize: 350.7 KiB