Package: ExpressionAtlas Version: 1.28.0 Command: /home/biocbuild/bbs-3.17-bioc/R/bin/R CMD INSTALL ExpressionAtlas StartedAt: 2023-10-15 15:28:55 -0400 (Sun, 15 Oct 2023) EndedAt: 2023-10-15 15:29:15 -0400 (Sun, 15 Oct 2023) EllapsedTime: 19.8 seconds RetCode: 0 Status: OK