Package: ExpressionAtlas Version: 1.28.0 Command: /Library/Frameworks/R.framework/Resources/bin/R CMD check --install=check:ExpressionAtlas.install-out.txt --library=/Library/Frameworks/R.framework/Resources/library --no-vignettes --timings ExpressionAtlas_1.28.0.tar.gz StartedAt: 2023-10-16 01:37:41 -0400 (Mon, 16 Oct 2023) EndedAt: 2023-10-16 01:57:10 -0400 (Mon, 16 Oct 2023) EllapsedTime: 1169.5 seconds RetCode: 0 Status: OK CheckDir: ExpressionAtlas.Rcheck Warnings: 0