Package: ExperimentSubset Version: 1.10.0 Command: rm -rf ExperimentSubset.buildbin-libdir && mkdir ExperimentSubset.buildbin-libdir && F:\biocbuild\bbs-3.17-bioc\R\bin\R.exe CMD INSTALL --build --library=ExperimentSubset.buildbin-libdir ExperimentSubset_1.10.0.tar.gz StartedAt: 2023-10-16 08:47:01 -0400 (Mon, 16 Oct 2023) EndedAt: 2023-10-16 08:47:55 -0400 (Mon, 16 Oct 2023) EllapsedTime: 54.4 seconds RetCode: 0 Status: OK PackageFile: ExperimentSubset_1.10.0.zip PackageFileSize: 720 KiB