Package: ExperimentSubset Version: 1.10.0 Command: rm -rf ExperimentSubset.buildbin-libdir && mkdir ExperimentSubset.buildbin-libdir && /Users/biocbuild/BBS/utils/build-universal.sh ExperimentSubset_1.10.0.tar.gz /Library/Frameworks/R.framework/Resources/bin/R ExperimentSubset.buildbin-libdir StartedAt: 2023-10-16 09:22:50 -0400 (Mon, 16 Oct 2023) EndedAt: 2023-10-16 09:25:01 -0400 (Mon, 16 Oct 2023) EllapsedTime: 130.8 seconds RetCode: 0 Status: OK PackageFile: ExperimentSubset_1.10.0.tgz PackageFileSize: 715.3 KiB