Package: ExperimentHub Version: 2.8.1 Command: F:\biocbuild\bbs-3.17-bioc\R\bin\R.exe CMD INSTALL ExperimentHub StartedAt: 2023-10-15 17:02:03 -0400 (Sun, 15 Oct 2023) EndedAt: 2023-10-15 17:02:24 -0400 (Sun, 15 Oct 2023) EllapsedTime: 20.4 seconds RetCode: 0 Status: OK