Package: ExperimentHub Version: 2.8.1 Command: F:\biocbuild\bbs-3.17-bioc\R\bin\R.exe CMD check --no-multiarch --install=check:ExperimentHub.install-out.txt --library=F:\biocbuild\bbs-3.17-bioc\R\library --no-vignettes --timings ExperimentHub_2.8.1.tar.gz StartedAt: 2023-10-16 02:03:50 -0400 (Mon, 16 Oct 2023) EndedAt: 2023-10-16 02:05:40 -0400 (Mon, 16 Oct 2023) EllapsedTime: 110.5 seconds RetCode: 0 Status: WARNINGS CheckDir: ExperimentHub.Rcheck Warnings: 1