Package: ExperimentHub Version: 2.8.1 Command: rm -rf ExperimentHub.buildbin-libdir && mkdir ExperimentHub.buildbin-libdir && F:\biocbuild\bbs-3.17-bioc\R\bin\R.exe CMD INSTALL --build --library=ExperimentHub.buildbin-libdir ExperimentHub_2.8.1.tar.gz StartedAt: 2023-10-16 08:46:57 -0400 (Mon, 16 Oct 2023) EndedAt: 2023-10-16 08:47:19 -0400 (Mon, 16 Oct 2023) EllapsedTime: 22.9 seconds RetCode: 0 Status: OK PackageFile: ExperimentHub_2.8.1.zip PackageFileSize: 420.1 KiB