Package: ExperimentHub Version: 2.8.1 Command: /home/biocbuild/bbs-3.17-bioc/R/bin/R CMD INSTALL ExperimentHub StartedAt: 2023-10-15 15:48:22 -0400 (Sun, 15 Oct 2023) EndedAt: 2023-10-15 15:48:38 -0400 (Sun, 15 Oct 2023) EllapsedTime: 16.4 seconds RetCode: 0 Status: OK