Package: ExperimentHub Version: 2.8.1 Command: /home/biocbuild/bbs-3.17-bioc/R/bin/R CMD build --keep-empty-dirs --no-resave-data ExperimentHub StartedAt: 2023-10-15 16:45:59 -0400 (Sun, 15 Oct 2023) EndedAt: 2023-10-15 16:46:32 -0400 (Sun, 15 Oct 2023) EllapsedTime: 32.6 seconds RetCode: 0 Status: OK PackageFile: ExperimentHub_2.8.1.tar.gz PackageFileSize: 485.1 KiB