Package: ExperimentHub Version: 2.8.1 Command: rm -rf ExperimentHub.buildbin-libdir && mkdir ExperimentHub.buildbin-libdir && /Users/biocbuild/BBS/utils/build-universal.sh ExperimentHub_2.8.1.tar.gz /Library/Frameworks/R.framework/Resources/bin/R ExperimentHub.buildbin-libdir StartedAt: 2023-10-16 09:22:39 -0400 (Mon, 16 Oct 2023) EndedAt: 2023-10-16 09:23:36 -0400 (Mon, 16 Oct 2023) EllapsedTime: 57.3 seconds RetCode: 0 Status: OK PackageFile: ExperimentHub_2.8.1.tgz PackageFileSize: 416.5 KiB