Package: ExiMiR Version: 2.42.0 Command: F:\biocbuild\bbs-3.17-bioc\R\bin\R.exe CMD check --no-multiarch --install=check:ExiMiR.install-out.txt --library=F:\biocbuild\bbs-3.17-bioc\R\library --no-vignettes --timings ExiMiR_2.42.0.tar.gz StartedAt: 2023-10-16 02:02:50 -0400 (Mon, 16 Oct 2023) EndedAt: 2023-10-16 02:03:48 -0400 (Mon, 16 Oct 2023) EllapsedTime: 57.4 seconds RetCode: 0 Status: OK CheckDir: ExiMiR.Rcheck Warnings: 0