Package: ExiMiR Version: 2.42.0 Command: chmod a+r ExiMiR -R && F:\biocbuild\bbs-3.17-bioc\R\bin\R.exe CMD build --keep-empty-dirs --no-resave-data ExiMiR StartedAt: 2023-10-15 19:06:59 -0400 (Sun, 15 Oct 2023) EndedAt: 2023-10-15 19:08:12 -0400 (Sun, 15 Oct 2023) EllapsedTime: 73.3 seconds RetCode: 0 Status: OK PackageFile: ExiMiR_2.42.0.tar.gz PackageFileSize: 1.221 MiB