Package: ExiMiR Version: 2.42.0 Command: /Library/Frameworks/R.framework/Resources/bin/R CMD INSTALL ExiMiR StartedAt: 2023-10-15 15:08:40 -0400 (Sun, 15 Oct 2023) EndedAt: 2023-10-15 15:09:22 -0400 (Sun, 15 Oct 2023) EllapsedTime: 41.8 seconds RetCode: 0 Status: OK