Package: ExiMiR Version: 2.42.0 Command: /Library/Frameworks/R.framework/Resources/bin/R CMD build --keep-empty-dirs --no-resave-data ExiMiR StartedAt: 2023-10-15 18:15:12 -0400 (Sun, 15 Oct 2023) EndedAt: 2023-10-15 18:18:50 -0400 (Sun, 15 Oct 2023) EllapsedTime: 218.7 seconds RetCode: 0 Status: OK PackageFile: ExiMiR_2.42.0.tar.gz PackageFileSize: 1.507 MiB