Package: ExCluster Version: 1.18.0 Command: /home/biocbuild/bbs-3.17-bioc/R/bin/R CMD check --install=check:ExCluster.install-out.txt --library=/home/biocbuild/bbs-3.17-bioc/R/site-library --timings ExCluster_1.18.0.tar.gz StartedAt: 2023-10-15 21:13:40 -0400 (Sun, 15 Oct 2023) EndedAt: 2023-10-15 21:17:06 -0400 (Sun, 15 Oct 2023) EllapsedTime: 205.9 seconds RetCode: 0 Status: OK CheckDir: ExCluster.Rcheck Warnings: 0