Package: ExCluster Version: 1.18.0 Command: rm -rf ExCluster.buildbin-libdir && mkdir ExCluster.buildbin-libdir && /Users/biocbuild/BBS/utils/build-universal.sh ExCluster_1.18.0.tar.gz /Library/Frameworks/R.framework/Resources/bin/R ExCluster.buildbin-libdir StartedAt: 2023-10-16 09:22:37 -0400 (Mon, 16 Oct 2023) EndedAt: 2023-10-16 09:24:19 -0400 (Mon, 16 Oct 2023) EllapsedTime: 101.8 seconds RetCode: 0 Status: OK PackageFile: ExCluster_1.18.0.tgz PackageFileSize: 487 KiB