Package: EventPointer Version: 3.8.0 Command: rm -rf EventPointer.buildbin-libdir && mkdir EventPointer.buildbin-libdir && F:\biocbuild\bbs-3.17-bioc\R\bin\R.exe CMD INSTALL --build --library=EventPointer.buildbin-libdir EventPointer_3.8.0.tar.gz StartedAt: 2023-10-16 08:46:50 -0400 (Mon, 16 Oct 2023) EndedAt: 2023-10-16 08:47:53 -0400 (Mon, 16 Oct 2023) EllapsedTime: 63.8 seconds RetCode: 0 Status: OK PackageFile: EventPointer_3.8.0.zip PackageFileSize: 1.326 MiB