Package: EventPointer Version: 3.8.0 Command: /home/biocbuild/bbs-3.17-bioc/R/bin/R CMD build --keep-empty-dirs --no-resave-data EventPointer StartedAt: 2023-10-15 16:45:04 -0400 (Sun, 15 Oct 2023) EndedAt: 2023-10-15 16:46:20 -0400 (Sun, 15 Oct 2023) EllapsedTime: 75.9 seconds RetCode: 0 Status: OK PackageFile: EventPointer_3.8.0.tar.gz PackageFileSize: 1.642 MiB