Package: EpiTxDb Version: 1.12.0 Command: rm -rf EpiTxDb.buildbin-libdir && mkdir EpiTxDb.buildbin-libdir && F:\biocbuild\bbs-3.17-bioc\R\bin\R.exe CMD INSTALL --build --library=EpiTxDb.buildbin-libdir EpiTxDb_1.12.0.tar.gz StartedAt: 2023-10-16 08:45:54 -0400 (Mon, 16 Oct 2023) EndedAt: 2023-10-16 08:46:50 -0400 (Mon, 16 Oct 2023) EllapsedTime: 56.1 seconds RetCode: 0 Status: OK PackageFile: EpiTxDb_1.12.0.zip PackageFileSize: 1.6 MiB