Package: EpiTxDb Version: 1.12.0 Command: /Library/Frameworks/R.framework/Resources/bin/R CMD check --install=check:EpiTxDb.install-out.txt --library=/Library/Frameworks/R.framework/Resources/library --no-vignettes --timings EpiTxDb_1.12.0.tar.gz StartedAt: 2023-10-16 01:25:25 -0400 (Mon, 16 Oct 2023) EndedAt: 2023-10-16 01:37:41 -0400 (Mon, 16 Oct 2023) EllapsedTime: 735.9 seconds RetCode: 0 Status: OK CheckDir: EpiTxDb.Rcheck Warnings: 0