Package: EpiMix Version: 1.2.4 Command: F:\biocbuild\bbs-3.17-bioc\R\bin\R.exe CMD INSTALL EpiMix StartedAt: 2023-10-15 17:03:50 -0400 (Sun, 15 Oct 2023) EndedAt: 2023-10-15 17:04:39 -0400 (Sun, 15 Oct 2023) EllapsedTime: 48.5 seconds RetCode: 0 Status: OK