Package: EpiMix Version: 1.2.4 Command: chmod a+r EpiMix -R && F:\biocbuild\bbs-3.17-bioc\R\bin\R.exe CMD build --keep-empty-dirs --no-resave-data EpiMix StartedAt: 2023-10-15 18:59:13 -0400 (Sun, 15 Oct 2023) EndedAt: 2023-10-15 19:07:09 -0400 (Sun, 15 Oct 2023) EllapsedTime: 476.1 seconds RetCode: 0 Status: OK PackageFile: EpiMix_1.2.4.tar.gz PackageFileSize: 2.458 MiB