Package: EpiMix Version: 1.2.4 Command: /Library/Frameworks/R.framework/Resources/bin/R CMD INSTALL EpiMix StartedAt: 2023-10-15 16:31:37 -0400 (Sun, 15 Oct 2023) EndedAt: 2023-10-15 16:33:44 -0400 (Sun, 15 Oct 2023) EllapsedTime: 127.7 seconds RetCode: 0 Status: OK