Package: EpiMix Version: 1.2.4 Command: /Library/Frameworks/R.framework/Resources/bin/R CMD check --install=check:EpiMix.install-out.txt --library=/Library/Frameworks/R.framework/Resources/library --no-vignettes --timings EpiMix_1.2.4.tar.gz StartedAt: 2023-10-16 01:23:44 -0400 (Mon, 16 Oct 2023) EndedAt: 2023-10-16 01:40:45 -0400 (Mon, 16 Oct 2023) EllapsedTime: 1021.8 seconds RetCode: 0 Status: OK CheckDir: EpiMix.Rcheck Warnings: 0