Package: EpiMix Version: 1.2.4 Command: rm -rf EpiMix.buildbin-libdir && mkdir EpiMix.buildbin-libdir && /Users/biocbuild/BBS/utils/build-universal.sh EpiMix_1.2.4.tar.gz /Library/Frameworks/R.framework/Resources/bin/R EpiMix.buildbin-libdir StartedAt: 2023-10-16 09:21:21 -0400 (Mon, 16 Oct 2023) EndedAt: 2023-10-16 09:24:03 -0400 (Mon, 16 Oct 2023) EllapsedTime: 162.1 seconds RetCode: 0 Status: OK PackageFile: EpiMix_1.2.4.tgz PackageFileSize: 2.234 MiB