Package: EpiDISH Version: 2.16.0 Command: /home/biocbuild/bbs-3.17-bioc/R/bin/R CMD check --install=check:EpiDISH.install-out.txt --library=/home/biocbuild/bbs-3.17-bioc/R/site-library --timings EpiDISH_2.16.0.tar.gz StartedAt: 2023-10-15 21:05:51 -0400 (Sun, 15 Oct 2023) EndedAt: 2023-10-15 21:06:45 -0400 (Sun, 15 Oct 2023) EllapsedTime: 54.7 seconds RetCode: 0 Status: OK CheckDir: EpiDISH.Rcheck Warnings: 0