Package: EpiDISH Version: 2.16.0 Command: /home/biocbuild/bbs-3.17-bioc/R/bin/R CMD build --keep-empty-dirs --no-resave-data EpiDISH StartedAt: 2023-10-15 16:42:33 -0400 (Sun, 15 Oct 2023) EndedAt: 2023-10-15 16:42:48 -0400 (Sun, 15 Oct 2023) EllapsedTime: 15.6 seconds RetCode: 0 Status: OK PackageFile: EpiDISH_2.16.0.tar.gz PackageFileSize: 2.827 MiB