Package: EpiDISH Version: 2.16.0 Command: /Library/Frameworks/R.framework/Resources/bin/R CMD build --keep-empty-dirs --no-resave-data EpiDISH StartedAt: 2023-10-15 18:09:57 -0400 (Sun, 15 Oct 2023) EndedAt: 2023-10-15 18:10:37 -0400 (Sun, 15 Oct 2023) EllapsedTime: 39.9 seconds RetCode: 0 Status: OK PackageFile: EpiDISH_2.16.0.tar.gz PackageFileSize: 2.828 MiB