Package: EpiCompare Version: 1.3.0 Command: F:\biocbuild\bbs-3.17-bioc\R\bin\R.exe CMD check --no-multiarch --install=check:EpiCompare.install-out.txt --library=F:\biocbuild\bbs-3.17-bioc\R\library --no-vignettes --timings EpiCompare_1.3.0.tar.gz StartedAt: 2023-02-23 01:16:01 -0500 (Thu, 23 Feb 2023) EndedAt: 2023-02-23 01:26:24 -0500 (Thu, 23 Feb 2023) EllapsedTime: 622.4 seconds RetCode: 0 Status: OK CheckDir: EpiCompare.Rcheck Warnings: 0