Package: EpiCompare Version: 1.4.0 Command: chmod a+r EpiCompare -R && F:\biocbuild\bbs-3.17-bioc\R\bin\R.exe CMD build --keep-empty-dirs --no-resave-data EpiCompare StartedAt: 2023-10-15 18:57:12 -0400 (Sun, 15 Oct 2023) EndedAt: 2023-10-15 18:59:35 -0400 (Sun, 15 Oct 2023) EllapsedTime: 142.5 seconds RetCode: 1 Status: ERROR PackageFile: None PackageFileSize: NA