Package: EpiCompare Version: 1.3.0 Command: rm -rf EpiCompare.buildbin-libdir && mkdir EpiCompare.buildbin-libdir && F:\biocbuild\bbs-3.17-bioc\R\bin\R.exe CMD INSTALL --build --library=EpiCompare.buildbin-libdir EpiCompare_1.3.0.tar.gz StartedAt: 2023-02-23 07:56:45 -0500 (Thu, 23 Feb 2023) EndedAt: 2023-02-23 07:57:45 -0500 (Thu, 23 Feb 2023) EllapsedTime: 59.3 seconds RetCode: 0 Status: OK PackageFile: EpiCompare_1.3.0.zip PackageFileSize: 1.412 MiB