Package: EpiCompare Version: 1.4.0 Command: /home/biocbuild/bbs-3.17-bioc/R/bin/R CMD check --install=check:EpiCompare.install-out.txt --library=/home/biocbuild/bbs-3.17-bioc/R/site-library --timings EpiCompare_1.4.0.tar.gz StartedAt: 2023-10-15 21:05:23 -0400 (Sun, 15 Oct 2023) EndedAt: 2023-10-15 21:18:35 -0400 (Sun, 15 Oct 2023) EllapsedTime: 792.2 seconds RetCode: 1 Status: ERROR CheckDir: EpiCompare.Rcheck Warnings: NA