Package: EpiCompare Version: 1.4.0 Command: /home/biocbuild/bbs-3.17-bioc/R/bin/R CMD build --keep-empty-dirs --no-resave-data EpiCompare StartedAt: 2023-10-15 16:42:21 -0400 (Sun, 15 Oct 2023) EndedAt: 2023-10-15 16:44:13 -0400 (Sun, 15 Oct 2023) EllapsedTime: 111.8 seconds RetCode: 0 Status: OK PackageFile: EpiCompare_1.4.0.tar.gz PackageFileSize: 6.737 MiB