Package: EpiCompare Version: 1.4.0 Command: /Library/Frameworks/R.framework/Resources/bin/R CMD INSTALL EpiCompare StartedAt: 2023-10-15 16:29:03 -0400 (Sun, 15 Oct 2023) EndedAt: 2023-10-15 16:31:36 -0400 (Sun, 15 Oct 2023) EllapsedTime: 153.4 seconds RetCode: 0 Status: OK