Package: EpiCompare Version: 1.4.0 Command: /Library/Frameworks/R.framework/Resources/bin/R CMD check --install=check:EpiCompare.install-out.txt --library=/Library/Frameworks/R.framework/Resources/library --no-vignettes --timings EpiCompare_1.4.0.tar.gz StartedAt: 2023-10-16 01:22:33 -0400 (Mon, 16 Oct 2023) EndedAt: 2023-10-16 01:44:55 -0400 (Mon, 16 Oct 2023) EllapsedTime: 1341.7 seconds RetCode: 1 Status: ERROR CheckDir: EpiCompare.Rcheck Warnings: NA