Package: EnrichmentBrowser Version: 2.30.2 Command: chmod a+r EnrichmentBrowser -R && F:\biocbuild\bbs-3.17-bioc\R\bin\R.exe CMD build --keep-empty-dirs --no-resave-data EnrichmentBrowser StartedAt: 2023-10-15 18:56:25 -0400 (Sun, 15 Oct 2023) EndedAt: 2023-10-15 18:58:40 -0400 (Sun, 15 Oct 2023) EllapsedTime: 134.4 seconds RetCode: 0 Status: OK PackageFile: EnrichmentBrowser_2.30.2.tar.gz PackageFileSize: 1.925 MiB