Package: EnrichmentBrowser Version: 2.30.2 Command: /home/biocbuild/bbs-3.17-bioc/R/bin/R CMD INSTALL EnrichmentBrowser StartedAt: 2023-10-15 15:21:21 -0400 (Sun, 15 Oct 2023) EndedAt: 2023-10-15 15:21:51 -0400 (Sun, 15 Oct 2023) EllapsedTime: 30.0 seconds RetCode: 0 Status: OK