Package: EnrichmentBrowser Version: 2.30.2 Command: /home/biocbuild/bbs-3.17-bioc/R/bin/R CMD build --keep-empty-dirs --no-resave-data EnrichmentBrowser StartedAt: 2023-10-15 16:41:47 -0400 (Sun, 15 Oct 2023) EndedAt: 2023-10-15 16:43:41 -0400 (Sun, 15 Oct 2023) EllapsedTime: 114.0 seconds RetCode: 0 Status: OK PackageFile: EnrichmentBrowser_2.30.2.tar.gz PackageFileSize: 1.923 MiB