Package: EnrichmentBrowser Version: 2.30.2 Command: /Library/Frameworks/R.framework/Resources/bin/R CMD INSTALL EnrichmentBrowser StartedAt: 2023-10-15 15:29:48 -0400 (Sun, 15 Oct 2023) EndedAt: 2023-10-15 15:31:30 -0400 (Sun, 15 Oct 2023) EllapsedTime: 101.1 seconds RetCode: 0 Status: OK