Package: EnrichedHeatmap Version: 1.30.0 Command: F:\biocbuild\bbs-3.17-bioc\R\bin\R.exe CMD INSTALL EnrichedHeatmap StartedAt: 2023-10-15 16:17:54 -0400 (Sun, 15 Oct 2023) EndedAt: 2023-10-15 16:18:24 -0400 (Sun, 15 Oct 2023) EllapsedTime: 30.0 seconds RetCode: 0 Status: OK