Package: EnrichedHeatmap Version: 1.30.0 Command: rm -rf EnrichedHeatmap.buildbin-libdir && mkdir EnrichedHeatmap.buildbin-libdir && F:\biocbuild\bbs-3.17-bioc\R\bin\R.exe CMD INSTALL --build --library=EnrichedHeatmap.buildbin-libdir EnrichedHeatmap_1.30.0.tar.gz StartedAt: 2023-10-16 08:45:10 -0400 (Mon, 16 Oct 2023) EndedAt: 2023-10-16 08:45:50 -0400 (Mon, 16 Oct 2023) EllapsedTime: 40.5 seconds RetCode: 0 Status: OK PackageFile: EnrichedHeatmap_1.30.0.zip PackageFileSize: 8.968 MiB