Package: EnrichedHeatmap Version: 1.30.0 Command: /Library/Frameworks/R.framework/Resources/bin/R CMD INSTALL EnrichedHeatmap StartedAt: 2023-10-15 15:30:04 -0400 (Sun, 15 Oct 2023) EndedAt: 2023-10-15 15:31:13 -0400 (Sun, 15 Oct 2023) EllapsedTime: 69.2 seconds RetCode: 0 Status: OK