Package: EnrichedHeatmap Version: 1.30.0 Command: /Library/Frameworks/R.framework/Resources/bin/R CMD build --keep-empty-dirs --no-resave-data EnrichedHeatmap StartedAt: 2023-10-15 18:08:43 -0400 (Sun, 15 Oct 2023) EndedAt: 2023-10-15 18:21:14 -0400 (Sun, 15 Oct 2023) EllapsedTime: 750.5 seconds RetCode: 0 Status: OK PackageFile: EnrichedHeatmap_1.30.0.tar.gz PackageFileSize: 11.57 MiB