Package: EnhancedVolcano Version: 1.18.0 Command: rm -rf EnhancedVolcano.buildbin-libdir && mkdir EnhancedVolcano.buildbin-libdir && /Users/biocbuild/BBS/utils/build-universal.sh EnhancedVolcano_1.18.0.tar.gz /Library/Frameworks/R.framework/Resources/bin/R EnhancedVolcano.buildbin-libdir StartedAt: 2023-10-16 09:20:45 -0400 (Mon, 16 Oct 2023) EndedAt: 2023-10-16 09:21:03 -0400 (Mon, 16 Oct 2023) EllapsedTime: 18.6 seconds RetCode: 0 Status: OK PackageFile: EnhancedVolcano_1.18.0.tgz PackageFileSize: 5.096 MiB